BEGIN:VCALENDAR
VERSION:2.0
PRODID:icalendar-ruby
CALSCALE:GREGORIAN
METHOD:PUBLISH
BEGIN:VEVENT
DTSTAMP:20260423T131224Z
UID:525-2557743@agnusdeilutheran.org
DTSTART:20260517T180000Z
DTEND:20260517T190000Z
CLASS:PUBLIC
CREATED:20260414T111142
DESCRIPTION:Plan to attended the May meeting on May 17th after worship eit
 her in-person or on the Zoom platform. Voting members will be asked to app
 rove the constitutional amendments\, elect Council members\, Little Lambs 
 Board members and Endowment Committee members. We will also view highlight
 s from the 2025 Annual Report.\nLink to meeting
LAST-MODIFIED:20260414T111142
LOCATION:In-person or Livestream
SUMMARY:Congregational Meeting
URL;VALUE=URI:https://agnusdeilutheran.org/events/congregational-meeting--5
 25/2026-05-17
ATTACH;FILENAME=congregation_29752c.jpg;FMTTYPE=image/jpeg:https://dq5pwpg1
 q8ru0.cloudfront.net/2026/04/14/18/10/44/524894c1-d493-44b4-9fbf-c2949568b
 1c1/congregation_29752c.jpg
END:VEVENT
END:VCALENDAR
