BEGIN:VCALENDAR
VERSION:2.0
PRODID:icalendar-ruby
CALSCALE:GREGORIAN
METHOD:PUBLISH
BEGIN:VEVENT
DTSTAMP:20260423T130403Z
UID:524-2512161@agnusdeilutheran.org
DTSTART:20260425T160000Z
DTEND:20260425T210000Z
CLASS:PUBLIC
CREATED:20260409T092859
DESCRIPTION:
LAST-MODIFIED:20260409T092859
LOCATION:ADLC Parish Hall
SUMMARY:Gold Star Wives Conference
URL;VALUE=URI:https://agnusdeilutheran.org/events/gold-star-wives-conferenc
 e/2026-04-25
END:VEVENT
END:VCALENDAR
