BEGIN:VCALENDAR
VERSION:2.0
PRODID:icalendar-ruby
CALSCALE:GREGORIAN
METHOD:PUBLISH
BEGIN:VEVENT
DTSTAMP:20260423T125946Z
UID:520-2441092@agnusdeilutheran.org
DTSTART:20260428T003000Z
DTEND:20260428T013000Z
CLASS:PUBLIC
CREATED:20260401T105935
DESCRIPTION:
LAST-MODIFIED:20260401T105935
LOCATION:
SUMMARY:Handbell Rehearsal
URL;VALUE=URI:https://agnusdeilutheran.org/events/handbell-rehearsal--520/2
 026-04-27
END:VEVENT
END:VCALENDAR
