BEGIN:VCALENDAR
VERSION:2.0
PRODID:icalendar-ruby
CALSCALE:GREGORIAN
METHOD:PUBLISH
BEGIN:VEVENT
DTSTAMP:20260423T144831Z
UID:520-2441093@agnusdeilutheran.org
DTSTART:20260505T003000Z
DTEND:20260505T013000Z
CLASS:PUBLIC
CREATED:20260401T105935
DESCRIPTION:
LAST-MODIFIED:20260401T105935
LOCATION:
SUMMARY:Handbell Rehearsal
URL;VALUE=URI:https://agnusdeilutheran.org/events/handbell-rehearsal--520/2
 026-05-04
END:VEVENT
END:VCALENDAR
