BEGIN:VCALENDAR
VERSION:2.0
PRODID:icalendar-ruby
CALSCALE:GREGORIAN
METHOD:PUBLISH
BEGIN:VEVENT
DTSTAMP:20260423T131755Z
UID:526-2559274@agnusdeilutheran.org
DTSTART;VALUE=DATE:20260627
DTEND;VALUE=DATE:20260627
CLASS:PUBLIC
CREATED:20260414T144315
DESCRIPTION:Fourth Annual Pride in the Park\, Saturday\, June 27 at Skansie
  Brothers Park\nSave the Date for this annual “vibrant\, all-ages celebr
 ation of LGBTQIA+ visibility\, joy and community connection.” We show ou
 r community how Agnus Dei values inclusivity and celebrates all of God's b
 eloved children by hosting a booth at this fun event.\n 
LAST-MODIFIED:20260414T144315
LOCATION:Skansie Brothers Park
SUMMARY:Pride in the Park
URL;VALUE=URI:https://agnusdeilutheran.org/events/pride-in-the-park/2026-06
 -27
ATTACH;FILENAME=20250621_1103350.jpg;FMTTYPE=image/jpeg:https://dq5pwpg1q8r
 u0.cloudfront.net/2026/04/14/21/36/54/a20155fe-6178-4456-89ab-7ddc2802901d
 /20250621_1103350.jpg
ATTACH;FILENAME=20250621_143050-1.jpg;FMTTYPE=image/jpeg:https://dq5pwpg1q8
 ru0.cloudfront.net/2026/04/14/21/36/53/8e9d1ae3-2071-4cea-bacf-114ca61aa4e
 d/20250621_143050-1.jpg
ATTACH;FILENAME=20250621_151155-1.jpg;FMTTYPE=image/jpeg:https://dq5pwpg1q8
 ru0.cloudfront.net/2026/04/14/21/36/53/c97e4294-0306-4584-9047-3d05b03ace1
 3/20250621_151155-1.jpg
ATTACH;FILENAME=20250621_134557-1.jpg;FMTTYPE=image/jpeg:https://dq5pwpg1q8
 ru0.cloudfront.net/2026/04/14/21/36/54/18b22e2d-7477-4e18-a393-d8d4d1bab9d
 c/20250621_134557-1.jpg
ATTACH;FILENAME=20250621_161442-1.jpg;FMTTYPE=image/jpeg:https://dq5pwpg1q8
 ru0.cloudfront.net/2026/04/14/21/36/52/fdb1bd67-e916-4109-976b-fc3d60c46b0
 1/20250621_161442-1.jpg
END:VEVENT
END:VCALENDAR
